BEGIN:VCALENDAR
VERSION:2.0
PRODID:-//Southwest Laborers District Council - ECPv6.15.19//NONSGML v1.0//EN
CALSCALE:GREGORIAN
METHOD:PUBLISH
X-ORIGINAL-URL:https://swldc.org
X-WR-CALDESC:Events for Southwest Laborers District Council
REFRESH-INTERVAL;VALUE=DURATION:PT1H
X-Robots-Tag:noindex
X-PUBLISHED-TTL:PT1H
BEGIN:VTIMEZONE
TZID:America/Chicago
BEGIN:DAYLIGHT
TZOFFSETFROM:-0600
TZOFFSETTO:-0500
TZNAME:CDT
DTSTART:20250309T080000
END:DAYLIGHT
BEGIN:STANDARD
TZOFFSETFROM:-0500
TZOFFSETTO:-0600
TZNAME:CST
DTSTART:20251102T070000
END:STANDARD
BEGIN:DAYLIGHT
TZOFFSETFROM:-0600
TZOFFSETTO:-0500
TZNAME:CDT
DTSTART:20260308T080000
END:DAYLIGHT
BEGIN:STANDARD
TZOFFSETFROM:-0500
TZOFFSETTO:-0600
TZNAME:CST
DTSTART:20261101T070000
END:STANDARD
BEGIN:DAYLIGHT
TZOFFSETFROM:-0600
TZOFFSETTO:-0500
TZNAME:CDT
DTSTART:20270314T080000
END:DAYLIGHT
BEGIN:STANDARD
TZOFFSETFROM:-0500
TZOFFSETTO:-0600
TZNAME:CST
DTSTART:20271107T070000
END:STANDARD
BEGIN:DAYLIGHT
TZOFFSETFROM:-0600
TZOFFSETTO:-0500
TZNAME:CDT
DTSTART:20280312T080000
END:DAYLIGHT
BEGIN:STANDARD
TZOFFSETFROM:-0500
TZOFFSETTO:-0600
TZNAME:CST
DTSTART:20281105T070000
END:STANDARD
END:VTIMEZONE
BEGIN:VEVENT
DTSTART;TZID=America/Chicago:20260507T190000
DTEND;TZID=America/Chicago:20260507T200000
DTSTAMP:20260424T061939
CREATED:20241227T193740Z
LAST-MODIFIED:20251124T224835Z
UID:10000964-1778180400-1778184000@swldc.org
SUMMARY:Laborers Local 154 Retiree Council
DESCRIPTION:
URL:https://swldc.org/event/laborers-local-154-retiree-council/2026-05-07/
LOCATION:Laborers Local 154\, 1110 West Pioneer Parkway\, Suite 100\, Arlington\, TX\, 76013
ATTACH;FMTTYPE=image/png:https://swldc.org/wp-content/uploads/2024/12/LiUNA-154-toro.png
END:VEVENT
BEGIN:VEVENT
DTSTART;TZID=America/Chicago:20260512T190000
DTEND;TZID=America/Chicago:20260512T203000
DTSTAMP:20260424T061939
CREATED:20241227T193622Z
LAST-MODIFIED:20251124T224020Z
UID:10000637-1778612400-1778617800@swldc.org
SUMMARY:Laborers Local 154 Union Meeting
DESCRIPTION:
URL:https://swldc.org/event/laborers-local-154-union-meeting/2026-05-12/
LOCATION:Laborers Local 154\, 1110 West Pioneer Parkway\, Suite 100\, Arlington\, TX\, 76013
ATTACH;FMTTYPE=image/png:https://swldc.org/wp-content/uploads/2024/12/LiUNA-154-toro.png
END:VEVENT
BEGIN:VEVENT
DTSTART;TZID=America/Chicago:20260604T190000
DTEND;TZID=America/Chicago:20260604T200000
DTSTAMP:20260424T061939
CREATED:20241227T193740Z
LAST-MODIFIED:20251124T224835Z
UID:10000965-1780599600-1780603200@swldc.org
SUMMARY:Laborers Local 154 Retiree Council
DESCRIPTION:
URL:https://swldc.org/event/laborers-local-154-retiree-council/2026-06-04/
LOCATION:Laborers Local 154\, 1110 West Pioneer Parkway\, Suite 100\, Arlington\, TX\, 76013
ATTACH;FMTTYPE=image/png:https://swldc.org/wp-content/uploads/2024/12/LiUNA-154-toro.png
END:VEVENT
BEGIN:VEVENT
DTSTART;TZID=America/Chicago:20260609T190000
DTEND;TZID=America/Chicago:20260609T203000
DTSTAMP:20260424T061939
CREATED:20241227T193622Z
LAST-MODIFIED:20251124T224020Z
UID:10000638-1781031600-1781037000@swldc.org
SUMMARY:Laborers Local 154 Union Meeting
DESCRIPTION:
URL:https://swldc.org/event/laborers-local-154-union-meeting/2026-06-09/
LOCATION:Laborers Local 154\, 1110 West Pioneer Parkway\, Suite 100\, Arlington\, TX\, 76013
ATTACH;FMTTYPE=image/png:https://swldc.org/wp-content/uploads/2024/12/LiUNA-154-toro.png
END:VEVENT
BEGIN:VEVENT
DTSTART;TZID=America/Chicago:20260702T190000
DTEND;TZID=America/Chicago:20260702T200000
DTSTAMP:20260424T061939
CREATED:20241227T193740Z
LAST-MODIFIED:20251124T224835Z
UID:10000966-1783018800-1783022400@swldc.org
SUMMARY:Laborers Local 154 Retiree Council
DESCRIPTION:
URL:https://swldc.org/event/laborers-local-154-retiree-council/2026-07-02/
LOCATION:Laborers Local 154\, 1110 West Pioneer Parkway\, Suite 100\, Arlington\, TX\, 76013
ATTACH;FMTTYPE=image/png:https://swldc.org/wp-content/uploads/2024/12/LiUNA-154-toro.png
END:VEVENT
BEGIN:VEVENT
DTSTART;TZID=America/Chicago:20260714T190000
DTEND;TZID=America/Chicago:20260714T203000
DTSTAMP:20260424T061939
CREATED:20241227T193622Z
LAST-MODIFIED:20251124T224020Z
UID:10000639-1784055600-1784061000@swldc.org
SUMMARY:Laborers Local 154 Union Meeting
DESCRIPTION:
URL:https://swldc.org/event/laborers-local-154-union-meeting/2026-07-14/
LOCATION:Laborers Local 154\, 1110 West Pioneer Parkway\, Suite 100\, Arlington\, TX\, 76013
ATTACH;FMTTYPE=image/png:https://swldc.org/wp-content/uploads/2024/12/LiUNA-154-toro.png
END:VEVENT
BEGIN:VEVENT
DTSTART;TZID=America/Chicago:20260806T190000
DTEND;TZID=America/Chicago:20260806T200000
DTSTAMP:20260424T061939
CREATED:20241227T193740Z
LAST-MODIFIED:20251124T224835Z
UID:10000967-1786042800-1786046400@swldc.org
SUMMARY:Laborers Local 154 Retiree Council
DESCRIPTION:
URL:https://swldc.org/event/laborers-local-154-retiree-council/2026-08-06/
LOCATION:Laborers Local 154\, 1110 West Pioneer Parkway\, Suite 100\, Arlington\, TX\, 76013
ATTACH;FMTTYPE=image/png:https://swldc.org/wp-content/uploads/2024/12/LiUNA-154-toro.png
END:VEVENT
BEGIN:VEVENT
DTSTART;TZID=America/Chicago:20260811T190000
DTEND;TZID=America/Chicago:20260811T203000
DTSTAMP:20260424T061939
CREATED:20241227T193622Z
LAST-MODIFIED:20251124T224020Z
UID:10000640-1786474800-1786480200@swldc.org
SUMMARY:Laborers Local 154 Union Meeting
DESCRIPTION:
URL:https://swldc.org/event/laborers-local-154-union-meeting/2026-08-11/
LOCATION:Laborers Local 154\, 1110 West Pioneer Parkway\, Suite 100\, Arlington\, TX\, 76013
ATTACH;FMTTYPE=image/png:https://swldc.org/wp-content/uploads/2024/12/LiUNA-154-toro.png
END:VEVENT
BEGIN:VEVENT
DTSTART;TZID=America/Chicago:20260903T190000
DTEND;TZID=America/Chicago:20260903T200000
DTSTAMP:20260424T061939
CREATED:20241227T193740Z
LAST-MODIFIED:20251124T224835Z
UID:10000968-1788462000-1788465600@swldc.org
SUMMARY:Laborers Local 154 Retiree Council
DESCRIPTION:
URL:https://swldc.org/event/laborers-local-154-retiree-council/2026-09-03/
LOCATION:Laborers Local 154\, 1110 West Pioneer Parkway\, Suite 100\, Arlington\, TX\, 76013
ATTACH;FMTTYPE=image/png:https://swldc.org/wp-content/uploads/2024/12/LiUNA-154-toro.png
END:VEVENT
BEGIN:VEVENT
DTSTART;TZID=America/Chicago:20260908T190000
DTEND;TZID=America/Chicago:20260908T203000
DTSTAMP:20260424T061939
CREATED:20241227T193622Z
LAST-MODIFIED:20251124T224020Z
UID:10000641-1788894000-1788899400@swldc.org
SUMMARY:Laborers Local 154 Union Meeting
DESCRIPTION:
URL:https://swldc.org/event/laborers-local-154-union-meeting/2026-09-08/
LOCATION:Laborers Local 154\, 1110 West Pioneer Parkway\, Suite 100\, Arlington\, TX\, 76013
ATTACH;FMTTYPE=image/png:https://swldc.org/wp-content/uploads/2024/12/LiUNA-154-toro.png
END:VEVENT
BEGIN:VEVENT
DTSTART;TZID=America/Chicago:20261001T190000
DTEND;TZID=America/Chicago:20261001T200000
DTSTAMP:20260424T061939
CREATED:20241227T193740Z
LAST-MODIFIED:20251124T224835Z
UID:10000969-1790881200-1790884800@swldc.org
SUMMARY:Laborers Local 154 Retiree Council
DESCRIPTION:
URL:https://swldc.org/event/laborers-local-154-retiree-council/2026-10-01/
LOCATION:Laborers Local 154\, 1110 West Pioneer Parkway\, Suite 100\, Arlington\, TX\, 76013
ATTACH;FMTTYPE=image/png:https://swldc.org/wp-content/uploads/2024/12/LiUNA-154-toro.png
END:VEVENT
BEGIN:VEVENT
DTSTART;TZID=America/Chicago:20261013T190000
DTEND;TZID=America/Chicago:20261013T203000
DTSTAMP:20260424T061939
CREATED:20241227T193622Z
LAST-MODIFIED:20251124T224020Z
UID:10000642-1791918000-1791923400@swldc.org
SUMMARY:Laborers Local 154 Union Meeting
DESCRIPTION:
URL:https://swldc.org/event/laborers-local-154-union-meeting/2026-10-13/
LOCATION:Laborers Local 154\, 1110 West Pioneer Parkway\, Suite 100\, Arlington\, TX\, 76013
ATTACH;FMTTYPE=image/png:https://swldc.org/wp-content/uploads/2024/12/LiUNA-154-toro.png
END:VEVENT
BEGIN:VEVENT
DTSTART;TZID=America/Chicago:20261105T190000
DTEND;TZID=America/Chicago:20261105T200000
DTSTAMP:20260424T061939
CREATED:20241227T193740Z
LAST-MODIFIED:20251124T224835Z
UID:10000970-1793905200-1793908800@swldc.org
SUMMARY:Laborers Local 154 Retiree Council
DESCRIPTION:
URL:https://swldc.org/event/laborers-local-154-retiree-council/2026-11-05/
LOCATION:Laborers Local 154\, 1110 West Pioneer Parkway\, Suite 100\, Arlington\, TX\, 76013
ATTACH;FMTTYPE=image/png:https://swldc.org/wp-content/uploads/2024/12/LiUNA-154-toro.png
END:VEVENT
BEGIN:VEVENT
DTSTART;TZID=America/Chicago:20261110T190000
DTEND;TZID=America/Chicago:20261110T203000
DTSTAMP:20260424T061939
CREATED:20241227T193622Z
LAST-MODIFIED:20251124T224020Z
UID:10000643-1794337200-1794342600@swldc.org
SUMMARY:Laborers Local 154 Union Meeting
DESCRIPTION:
URL:https://swldc.org/event/laborers-local-154-union-meeting/2026-11-10/
LOCATION:Laborers Local 154\, 1110 West Pioneer Parkway\, Suite 100\, Arlington\, TX\, 76013
ATTACH;FMTTYPE=image/png:https://swldc.org/wp-content/uploads/2024/12/LiUNA-154-toro.png
END:VEVENT
BEGIN:VEVENT
DTSTART;TZID=America/Chicago:20261203T190000
DTEND;TZID=America/Chicago:20261203T200000
DTSTAMP:20260424T061939
CREATED:20241227T193740Z
LAST-MODIFIED:20251124T224835Z
UID:10000971-1796324400-1796328000@swldc.org
SUMMARY:Laborers Local 154 Retiree Council
DESCRIPTION:
URL:https://swldc.org/event/laborers-local-154-retiree-council/2026-12-03/
LOCATION:Laborers Local 154\, 1110 West Pioneer Parkway\, Suite 100\, Arlington\, TX\, 76013
ATTACH;FMTTYPE=image/png:https://swldc.org/wp-content/uploads/2024/12/LiUNA-154-toro.png
END:VEVENT
BEGIN:VEVENT
DTSTART;TZID=America/Chicago:20261208T190000
DTEND;TZID=America/Chicago:20261208T203000
DTSTAMP:20260424T061939
CREATED:20241227T193622Z
LAST-MODIFIED:20251124T224020Z
UID:10000644-1796756400-1796761800@swldc.org
SUMMARY:Laborers Local 154 Union Meeting
DESCRIPTION:
URL:https://swldc.org/event/laborers-local-154-union-meeting/2026-12-08/
LOCATION:Laborers Local 154\, 1110 West Pioneer Parkway\, Suite 100\, Arlington\, TX\, 76013
ATTACH;FMTTYPE=image/png:https://swldc.org/wp-content/uploads/2024/12/LiUNA-154-toro.png
END:VEVENT
BEGIN:VEVENT
DTSTART;TZID=America/Chicago:20270107T190000
DTEND;TZID=America/Chicago:20270107T200000
DTSTAMP:20260424T061939
CREATED:20241227T193740Z
LAST-MODIFIED:20251124T224835Z
UID:10000972-1799348400-1799352000@swldc.org
SUMMARY:Laborers Local 154 Retiree Council
DESCRIPTION:
URL:https://swldc.org/event/laborers-local-154-retiree-council/2027-01-07/
LOCATION:Laborers Local 154\, 1110 West Pioneer Parkway\, Suite 100\, Arlington\, TX\, 76013
ATTACH;FMTTYPE=image/png:https://swldc.org/wp-content/uploads/2024/12/LiUNA-154-toro.png
END:VEVENT
BEGIN:VEVENT
DTSTART;TZID=America/Chicago:20270112T190000
DTEND;TZID=America/Chicago:20270112T203000
DTSTAMP:20260424T061939
CREATED:20241227T193622Z
LAST-MODIFIED:20251124T224020Z
UID:10000645-1799780400-1799785800@swldc.org
SUMMARY:Laborers Local 154 Union Meeting
DESCRIPTION:
URL:https://swldc.org/event/laborers-local-154-union-meeting/2027-01-12/
LOCATION:Laborers Local 154\, 1110 West Pioneer Parkway\, Suite 100\, Arlington\, TX\, 76013
ATTACH;FMTTYPE=image/png:https://swldc.org/wp-content/uploads/2024/12/LiUNA-154-toro.png
END:VEVENT
BEGIN:VEVENT
DTSTART;TZID=America/Chicago:20270204T190000
DTEND;TZID=America/Chicago:20270204T200000
DTSTAMP:20260424T061939
CREATED:20241227T193740Z
LAST-MODIFIED:20251124T224835Z
UID:10000973-1801767600-1801771200@swldc.org
SUMMARY:Laborers Local 154 Retiree Council
DESCRIPTION:
URL:https://swldc.org/event/laborers-local-154-retiree-council/2027-02-04/
LOCATION:Laborers Local 154\, 1110 West Pioneer Parkway\, Suite 100\, Arlington\, TX\, 76013
ATTACH;FMTTYPE=image/png:https://swldc.org/wp-content/uploads/2024/12/LiUNA-154-toro.png
END:VEVENT
BEGIN:VEVENT
DTSTART;TZID=America/Chicago:20270209T190000
DTEND;TZID=America/Chicago:20270209T203000
DTSTAMP:20260424T061939
CREATED:20241227T193622Z
LAST-MODIFIED:20251124T224020Z
UID:10000646-1802199600-1802205000@swldc.org
SUMMARY:Laborers Local 154 Union Meeting
DESCRIPTION:
URL:https://swldc.org/event/laborers-local-154-union-meeting/2027-02-09/
LOCATION:Laborers Local 154\, 1110 West Pioneer Parkway\, Suite 100\, Arlington\, TX\, 76013
ATTACH;FMTTYPE=image/png:https://swldc.org/wp-content/uploads/2024/12/LiUNA-154-toro.png
END:VEVENT
BEGIN:VEVENT
DTSTART;TZID=America/Chicago:20270304T190000
DTEND;TZID=America/Chicago:20270304T200000
DTSTAMP:20260424T061939
CREATED:20241227T193740Z
LAST-MODIFIED:20251124T224835Z
UID:10000974-1804186800-1804190400@swldc.org
SUMMARY:Laborers Local 154 Retiree Council
DESCRIPTION:
URL:https://swldc.org/event/laborers-local-154-retiree-council/2027-03-04/
LOCATION:Laborers Local 154\, 1110 West Pioneer Parkway\, Suite 100\, Arlington\, TX\, 76013
ATTACH;FMTTYPE=image/png:https://swldc.org/wp-content/uploads/2024/12/LiUNA-154-toro.png
END:VEVENT
BEGIN:VEVENT
DTSTART;TZID=America/Chicago:20270309T190000
DTEND;TZID=America/Chicago:20270309T203000
DTSTAMP:20260424T061939
CREATED:20241227T193622Z
LAST-MODIFIED:20251124T224020Z
UID:10000647-1804618800-1804624200@swldc.org
SUMMARY:Laborers Local 154 Union Meeting
DESCRIPTION:
URL:https://swldc.org/event/laborers-local-154-union-meeting/2027-03-09/
LOCATION:Laborers Local 154\, 1110 West Pioneer Parkway\, Suite 100\, Arlington\, TX\, 76013
ATTACH;FMTTYPE=image/png:https://swldc.org/wp-content/uploads/2024/12/LiUNA-154-toro.png
END:VEVENT
BEGIN:VEVENT
DTSTART;TZID=America/Chicago:20270401T190000
DTEND;TZID=America/Chicago:20270401T200000
DTSTAMP:20260424T061939
CREATED:20241227T193740Z
LAST-MODIFIED:20251124T224835Z
UID:10000975-1806606000-1806609600@swldc.org
SUMMARY:Laborers Local 154 Retiree Council
DESCRIPTION:
URL:https://swldc.org/event/laborers-local-154-retiree-council/2027-04-01/
LOCATION:Laborers Local 154\, 1110 West Pioneer Parkway\, Suite 100\, Arlington\, TX\, 76013
ATTACH;FMTTYPE=image/png:https://swldc.org/wp-content/uploads/2024/12/LiUNA-154-toro.png
END:VEVENT
BEGIN:VEVENT
DTSTART;TZID=America/Chicago:20270413T190000
DTEND;TZID=America/Chicago:20270413T203000
DTSTAMP:20260424T061939
CREATED:20241227T193622Z
LAST-MODIFIED:20251124T224020Z
UID:10000648-1807642800-1807648200@swldc.org
SUMMARY:Laborers Local 154 Union Meeting
DESCRIPTION:
URL:https://swldc.org/event/laborers-local-154-union-meeting/2027-04-13/
LOCATION:Laborers Local 154\, 1110 West Pioneer Parkway\, Suite 100\, Arlington\, TX\, 76013
ATTACH;FMTTYPE=image/png:https://swldc.org/wp-content/uploads/2024/12/LiUNA-154-toro.png
END:VEVENT
BEGIN:VEVENT
DTSTART;TZID=America/Chicago:20270506T190000
DTEND;TZID=America/Chicago:20270506T200000
DTSTAMP:20260424T061939
CREATED:20241227T193740Z
LAST-MODIFIED:20251124T224835Z
UID:10000976-1809630000-1809633600@swldc.org
SUMMARY:Laborers Local 154 Retiree Council
DESCRIPTION:
URL:https://swldc.org/event/laborers-local-154-retiree-council/2027-05-06/
LOCATION:Laborers Local 154\, 1110 West Pioneer Parkway\, Suite 100\, Arlington\, TX\, 76013
ATTACH;FMTTYPE=image/png:https://swldc.org/wp-content/uploads/2024/12/LiUNA-154-toro.png
END:VEVENT
BEGIN:VEVENT
DTSTART;TZID=America/Chicago:20270511T190000
DTEND;TZID=America/Chicago:20270511T203000
DTSTAMP:20260424T061939
CREATED:20241227T193622Z
LAST-MODIFIED:20251124T224020Z
UID:10000649-1810062000-1810067400@swldc.org
SUMMARY:Laborers Local 154 Union Meeting
DESCRIPTION:
URL:https://swldc.org/event/laborers-local-154-union-meeting/2027-05-11/
LOCATION:Laborers Local 154\, 1110 West Pioneer Parkway\, Suite 100\, Arlington\, TX\, 76013
ATTACH;FMTTYPE=image/png:https://swldc.org/wp-content/uploads/2024/12/LiUNA-154-toro.png
END:VEVENT
BEGIN:VEVENT
DTSTART;TZID=America/Chicago:20270603T190000
DTEND;TZID=America/Chicago:20270603T200000
DTSTAMP:20260424T061939
CREATED:20241227T193740Z
LAST-MODIFIED:20251124T224835Z
UID:10000977-1812049200-1812052800@swldc.org
SUMMARY:Laborers Local 154 Retiree Council
DESCRIPTION:
URL:https://swldc.org/event/laborers-local-154-retiree-council/2027-06-03/
LOCATION:Laborers Local 154\, 1110 West Pioneer Parkway\, Suite 100\, Arlington\, TX\, 76013
ATTACH;FMTTYPE=image/png:https://swldc.org/wp-content/uploads/2024/12/LiUNA-154-toro.png
END:VEVENT
BEGIN:VEVENT
DTSTART;TZID=America/Chicago:20270608T190000
DTEND;TZID=America/Chicago:20270608T203000
DTSTAMP:20260424T061939
CREATED:20241227T193622Z
LAST-MODIFIED:20251124T224020Z
UID:10000650-1812481200-1812486600@swldc.org
SUMMARY:Laborers Local 154 Union Meeting
DESCRIPTION:
URL:https://swldc.org/event/laborers-local-154-union-meeting/2027-06-08/
LOCATION:Laborers Local 154\, 1110 West Pioneer Parkway\, Suite 100\, Arlington\, TX\, 76013
ATTACH;FMTTYPE=image/png:https://swldc.org/wp-content/uploads/2024/12/LiUNA-154-toro.png
END:VEVENT
BEGIN:VEVENT
DTSTART;TZID=America/Chicago:20270701T190000
DTEND;TZID=America/Chicago:20270701T200000
DTSTAMP:20260424T061939
CREATED:20241227T193740Z
LAST-MODIFIED:20251124T224835Z
UID:10000978-1814468400-1814472000@swldc.org
SUMMARY:Laborers Local 154 Retiree Council
DESCRIPTION:
URL:https://swldc.org/event/laborers-local-154-retiree-council/2027-07-01/
LOCATION:Laborers Local 154\, 1110 West Pioneer Parkway\, Suite 100\, Arlington\, TX\, 76013
ATTACH;FMTTYPE=image/png:https://swldc.org/wp-content/uploads/2024/12/LiUNA-154-toro.png
END:VEVENT
BEGIN:VEVENT
DTSTART;TZID=America/Chicago:20270713T190000
DTEND;TZID=America/Chicago:20270713T203000
DTSTAMP:20260424T061939
CREATED:20241227T193622Z
LAST-MODIFIED:20251124T224020Z
UID:10000651-1815505200-1815510600@swldc.org
SUMMARY:Laborers Local 154 Union Meeting
DESCRIPTION:
URL:https://swldc.org/event/laborers-local-154-union-meeting/2027-07-13/
LOCATION:Laborers Local 154\, 1110 West Pioneer Parkway\, Suite 100\, Arlington\, TX\, 76013
ATTACH;FMTTYPE=image/png:https://swldc.org/wp-content/uploads/2024/12/LiUNA-154-toro.png
END:VEVENT
END:VCALENDAR